Workbook
Name _ftn2: 'RAG Criteria'!$A$143
Name _ftn3: 'RAG Criteria'!$A$144
Name _ftn5: 'RAG Criteria'!$A$146
Name _ftnref1: 'RAG Criteria'!$E$8
Name _ftnref2: 'RAG Criteria'!$E$32
Name _ftnref3: 'RAG Criteria'!$E$67
Name _ftnref4: 'RAG Criteria'!$E$89
Name _ftnref5: 'RAG Criteria'!$E$116
Name _Hlk96601175: Site_44!$C$2
Name _Ref70495710: 'RAG Criteria'!$E$32

Sheet Front Page
G13: South Derbyshire District Council
G14: Regulation 19 Local Plan Part 2 SA Report: Appendix D
G15: Sites Options Assessment
K23: Prepared by:
K24: South Derbyshire District Council, SLR Consulting Ltd
K30: Project Ref: C0428

Sheet Disclaimer
D5: Contract No: | E5: C0428
D7: Issue | E7: 1
D9: Authors | E9: South Derbyshire District Council SLR Consulting
D14: Project Director | E14: V Pearson
D19: Date: | E19: 46311
C22: This document has been prepared by SLR Consulting Ltd with reasonable skill, care and diligence, and taking account of the timescales and resources devoted to it by agreement with South Derbyshire District Council (the Client) as part or all of the services it has been appointed by the Client to carry out. It is subject to the terms and conditions of that appointment. SLR shall not be liable for the use of or reliance on any information, advice, recommendations and opinions in this document for any purpose by any person other than the Client. Reliance may be granted to a third party only in the event that SLR and the third party have executed a reliance agreement or collateral warranty. Information reported herein may be based on the interpretation of public domain data collected by SLR, and/or information supplied by the Client and/or its other advisors and associates. These data have been accepted in good faith as being accurate and valid. The copyright and intellectual property in all drawings, reports, specifications, bills of quantities, calculations and other information set out in this report remain vested in SLR unless the terms of appointment state otherwise. This document may contain information of a specialised and/or highly technical nature and the Client is advised to seek clarification on any elements which may be unclear to it. Information, advice, recommendations and opinions in this document should only be relied upon in the context of the whole document and any documents referenced explicitly herein and should then only be used within the context of the appointment.
B37: VERSION CONTROL RECORD
B38: Issue | D38: Description of Status | E38: Date | F38: Reviewer Initials | G38: Authors Initials
B39: 1 | D39: Final for Reg 19 SA Report | E39: 46311 | F39: JM | G39: SDDC, CT

Sheet Methodology
A1: The methodology used for the assessment of all sites is outlined below, with an explanation given under each header. The same assessment matrices has been used for the assessment of all sites, hence all follow the same format.
A3: Site Name
A4: Site Address
A5: Town/Locality
A6: Est Housing Yield/Employment Space
A7: Site Area (ha)
A8: Site Description
A9: Greenfield/Brownfield
A10: Assumptions Made
A12: SA Framework | C12: GIS Inputs | G12: SA Policy Assessment
A13: SA objective | B13: SA sub-objective | C13: GIS data available? | D13: R | E13: A | F13: G | G13: Direct/ Indirect | H13: Magnitude | I13: Duration | J13: Spatial Extent | K13: Permanence/ Reversibility | L13: Significance | M13: Description of potential effects | N13: Potential for cumulative effects? | O13: Mitigation | P13: Enhancements
A14: SA objectives will be listed here | B14: SA sub-objectives will be listed here. | C14: This indicates whether the site could be spatially assessed, and if so, what the RAG rating on the site was for each SA objective | G14: Details on the nature of any potential effects will be listed here. For further details and definitions of each category, please see the 'Significance Scores' tab. For cases where a neutral effect has been identified, N/A will be present across columns H-L. | L14: A significance score will be selected here, which corresponds with the definitions detailed in the 'Significance Scores' tab. | M14: The potential effect identified in columns H-L will be detailed here, with justification for the significance score. Any information considered as a part of the assessments which has informed these potential effects will also be detailed here. | N14: Yes or No will be inserted here. If yes, see summary box at the bottom of the matrices for further details of the potential cumulative effect. | O14: Yes or No will be inserted here. If yes, see summary box at the bottom of the matrices for further details of the potential cumulative effect. | P14: Any mitigation required for potential negative or uncertain effects will be detailed here. If the sole method of preventing a potential adverse effect is to not develop a site, "No mitigation identified." will be written here.
A16: Significant Negative and Uncertain Effects
A17: All potential significant negative and uncertain effects outlined in the assessment above, will be accumulated into this box.
A18: Significant Positive Effects
A19: Any potential significant positive effects identified within the assessment will be detailed here.
A20: Potential Cumulative Effects Identified
A21: Details of any potential cumulative effects, including which SA objectives could be affected, will be outlined here. This could include specific cumulative effects with another site, or those which could arise as a result of all development across the district.
A22: Mitigation and enhancements
A23: Details of all mitigation listed in column O and any potential enhancements arising from assessment will be summarised against the relevant assessment here. All potential significant negative and uncertain effects will have mitigation listed.

Sheet Significance Description
B3: Nature of effects | H3: Significance Scores
B4: Criterion | C4: Description | H4: Symbol | I4: Definitions of Significance of Effects Against the SA Objectives | J4: Assumptions on the nature of effects
B5: Significance | C5: An assessment of the significance of the potential effects identified. This could be a positive effect, negative effect, neutral effect, significant positive effect or significant negative effect. The definitions for these effects are detailed to the right. | H5: ++ | I5: Significant Positive Effect: the policy option supports the achievement of this objective; it addresses all relevant assessment questions and could result in a potentially significant beneficial effect e.g. improved access by walking and cycling modes to a local or town centre | J5: Permanent Continual Magnitude: High 80%+ receptor or environmental capacity affected; or Medium 40-80% of receptor or environmental capacity of affected The effect could be to: • enhance and redefine the location in a positive manner, making a contribution at a national or international scale; • repair or restore receptors badly damaged or degraded through previous uses; and/or • improve one or more key elements/features/ characteristics of a receptor with recognised quality such as a specific regional or national designation.
B6: Permanent/temporary | C6: An assessment of whether the predicted effects would be permanent (P), or temporary (T).
B7: Reversible/Irreversible | C7: An assessment of whether or not the identified effect can be reversed (R) e.g. the loss of greenfield land to development would be irreversible (I).
B8: Spatial extent | C8: How far the effect is predicted to be spread geographically:
C9: Low (L) = A specific area within SDDC
C10: Medium (M) = Across the entire SDDC, possibly reaching to neighbouring boroughs
C11: High (H) = Beyond the SDDC, with national or international ramifications
B12: Magnitude | C12: An assessment of the proportion of the receptor affected by the identified effect.
C13: Low (L) =20-40% of receptor or capacity affected | H13: + | I13: Minor Positive Effect: the policy option supports the achievement of this objective; it addresses some relevant assessment questions, although it may have only a minor beneficial effect | J13: Reversible Infrequent or intermittent Magnitude: Low 20-40% of receptor or capacity affected. The size, nature and location of a proposed scheme would: • improve undesignated yet recognised receptor qualities at the neighbourhood scale; • fit into or with the existing location and existing receptor qualities; and/or • enable the restoration of valued characteristic features partially lost through other land uses.
C14: Medium (M) = 40-80% of receptor affected
C15: High (H) =80+% of the receptor affected
B16: Duration | C16: An assessment of the time period the predicted effects are likely to last. This could be:
C17: Short (S)= 0-5 years
C18: Medium (M) = 5-10 years
C19: Long (L)= 10 years or more, up to the end of the Local Plan period
B20: Direct/Indirect | C20: An assessment of whether the predicted effect will be directly (D) as a result of option implementation, or indirectly (I) caused by the policy option. | H20: 0 | I20: Neutral Effect: the policy option has no impact or effect and is neutral insofar as the benefits and drawbacks appear equal and neither is considered significant
B21: Likelihood | C21: An assessment of how likely it is that the implementation of the policy option will lead to the precited effect. This could be low (L), moderate (M) or high (H). | H21: ? | I21: Uncertain Effect: Uncertain or insufficient information on which to determine the assessment this stage | J21: N/A
B22: Cumulative effect | C22: An assessment of whether or not there is potential for a cumulative effect to occur on the IIA objective as a result of the policy option working in combination with other circumstances, policies or factors. Y= potential cumulative effect. No potential cumulative effect identified. | H22: - | I22: Minor Negative Effect: the policy option appears to conflict with the achievement of this objective; it does not address relevant assessment questions and may result in minor adverse effects | J22: Reversible Infrequent or intermittent Magnitude: Low 20-40% of receptor or capacity affected. The size, nature and location of a proposed scheme would: • be out of scale with the location; or • leave an adverse impact on a receptor of recognised quality such as a specific district or county designation.
H28: - - | I28: Significant Negative Effect: the policy option works against the achievement of this objective; it could exacerbate a negative situation and may result in a potentially significant adverse effect e.g. loss of all or part of a designated ecological site of national importance. | J28: Permanent Irreversible Continual Magnitude: High 80%+ receptor or environmental capacity affected; or Medium 40-80% of receptor or environmental capacity of affected The effect could be to: • permanently degrade, diminish or destroy the integrity of the receptor; • cause a very high quality receptor to be permanently changed and its quality diminished; • cannot be fully mitigated and may cumulatively amount to a severe adverse effect; • be at a considerable variance to the location, degrading the integrity of the receptor; and/or • will be substantially damaging to a high quality receptor such as a specific regional or national designation.

Sheet RAG Criteria
A1: This table presents the RAG Criteria used within the assessment of site options. These criteria were generated through reference to existing guidance / good practice; the sources of this guidance and good practice are included within the Table. The RAG ratings helped to inform the assessment of all site options against the SA Framework.
A2: Sustainability Topic | B2: Sustainability Objective | C2: Indicator | D2: RAG Criteria | E2: Justification
A3: Biodiversity, Geodiversity, Flora and Fauna | B3: S01 Biodiversity: To safeguard and enhance biodiversity (including BAP habitats and species) and geodiversity through biodiversity net gain and improve connectivity between, and access to, green spaces and functional habitats. | C3: Proximity to River Mease SAC | D3: Outside of River Mease SAC catchment | E3: Professional judgement
D4: Within River Mease SAC catchment
C5: Proximity to SSSI | D5: >800m | E5: RTPI Strategic Env. Assessment Practice Advice 2018. It is recognised that distance is not a definitive guide to the likelihood or significance of effects on a SSSI.
D6: 200-800m
D7: <200m
C8: Within SSSI impact risk zone | D8: No residential limits/under residential limit | E8: Natural England’s Impact Risk zones for Sites of Special Scientific Interest [1]
D9: Within 10 dwellings of residential limits
D10: Exceeds residential limits
C11: Proximity to parks and informal open space | D11: >800m | E11: CIHT Planning for Walking Guidelines, 2015
D12: 400-800m
D13: <400m
C14: Proximity to Local Wildlife Sites & potential LWS | D14: >100m from LWS | E14: Withdrawn LP
D15: <100m from LWS
D16: Site intersects LWS
C17: Proximity to Tree Preservation orders | D17: No TPOs on site | E17: NPPF
D18: TPO within 10m of the site
D19: TPO included within site
C20: Proximity to LIGS | D20: >50m | E20: Professional Judgement
D21: <50m
D22: Intersects or is adjacent
A23: Population and Human Health | B23: S02 Housing: To ensure everyone has access to sustainable housing, which is affordable, and meets the needs of all residents including the elderly and other vulnerable groups and will support the vitality of existing communities and settlements. | C23: Provision of Affordable housing | D23: >40% affordable housing provision | E23: In line with withdrawn LP policies
D24: < 40% affordable housing provision
D25: No affordable housing provision
A26: Population and Human Health | B26: S03 Accessibility and Health: To improve local accessibility to healthcare, education, employment, retail facilities and recreational resources (including open spaces and sports facilities) and enhance wellbeing, promoting healthy and sustainable lifestyles. | C26: Proximity to GP Practice | D26: <400m | E26: CIHT Planning for Walking Guidelines, 2015
D27: 400-800m
D28: >800m
C29: Primary and secondary school capacity | D29: Capacity available | E29: Professional judgement
D30: At 90% capacity
D31: Running at 95%+ capacity
C32: Proximity to existing or planned primary school | D32: <1km | E32: Home to School Transport and Travel Guidance, 2014[2]
D33: <3.2km
D34: >3.2km
C35: Proximity to existing or planned secondary school | D35: <1km | E35: Home to School Transport and Travel Guidance, 2014
D36: <4.8km
D37: >4.8km
C38: Proximity to existing and planned employment sites via active travel | D38: <400m | E38: CIHT Planning for Walking Guidelines, 2015
D39: 400-800m
D40: >800m
...

Sheet RAG
C2: S01 | D2: S01 | E2: S01 | F2: S01 | G2: S01 | H2: S01 | I2: S01 | J2: S02 | K2: S03 | L2: S03 | M2: S03 | N2: S03 | O2: S03 | P2: S03 | Q2: S03 | R2: S03 | S2: S05 | T2: S06 | U2: S06 | V2: S07 | W2: S07 | X2: S08 | Y2: S08 | Z2: S08 | AA2: S08 | AB2: S08 | AC2: S09 | AD2: S09 | AE2: S09 | AF2: S010 | AG2: S011 | AH2: S011 | AI2: S011 | AJ2: S011 | AK2: S011 | AL2: S012 | AM2: S012 | AN2: S012 | AO2: S012 | AP2: S013 | AQ2: S014 | AR2: S014 | AS2: S015 | AT2: S015 | AU2: S015 | AV2: S015 | AW2: S016 | AX2: S016
C3: S01 | J3: S02 | K3: S03 | S3: S05 | T3: S06 | V3: S07 | X3: S08 | AC3: S09 | AF3: S010 | AG3: S011 | AL3: S012 | AP3: S013 | AQ3: S014 | AS3: S015 | AW3: S016
B4: Option | C4: Proximity to River Mease SAC | D4: SSSI proximity | E4: Within SSSI impact risk zone | F4: Parks and informal open space | G4: Local Wildlife Sites & potential LWS | H4: Proximity to Tree Preservation orders | I4: Proximity to LIGS | J4: Affordable housing | K4: Proximity to GP Practice | L4: Primary and secondary school capacity | M4: Proximity to existing or planned primary school | N4: Proximity to existing or planned secondary school | O4: Proximity to existing and planned employment sites via active travel | P4: Proximity to formal recreation e.g., sport centre, play parks | Q4: Proximity to informal recreation space i.e., open space | R4: Proximity to retail facilities | S4: IMD deprivation scores | T4: IMD deprivation scores | U4: Provision of retail and town centre uses | V4: Provision of employment space | W4: Proximity to existing and planned employment areas | X4: Proximity to GP Practice | Y4: Proximity to existing or planned primary school | Z4: Proximity to existing or planned secondary school | AA4: Proximity to existing and planned employment sites via active travel | AB4: Proximity to town/ village centre | AC4: Proximity to train station | AD4: Proximity to bus stop | AE4: Proximity to existing cycle routes | AF4: Proximity to town/ village centre via active travel | AG4: Agricultural Land Classifications | AH4: Mineral Safeguarding Area (sand and gravel, grit, and coal) | AI4: Historic Landfill Sites | AJ4: Brownfield Land | AK4: Contaminated Land | AL4: Distance to groundwater source protection zones | AM4: Distance to River Mease SAC nutrient neutrality zone | AN4: Noise pollution | AO4: Night blight map | AP4: Distance to EV charging points | AQ4: Flood risk | AR4: Proximity to watercourse | AS4: Ancient Monuments & Buffer | AT4: Conservation Areas | AU4: Listed Buildings | AV4: Historic parks and gardens | AW4: Greenbelt | AX4: AMES sensitivity regions | AY4: Location
B5: H23A: North of Linton Road, Castle Gresley | C5: G | D5: G | E5: G | F5: R | G5: R | H5: G | I5: G | J5: G | K5: R | L5: G | M5: A | N5: R | O5: R | P5: G | Q5: G | R5: G | S5: A | T5: A | U5: G | V5: R | W5: A | X5: R | Y5: A | Z5: R | AA5: R | AB5: G | AC5: R | AD5: G | AE5: G | AF5: G | AG5: A | AH5: R | AI5: G | AJ5: R | AK5: A | AL5: G | AM5: G | AN5: R | AO5: A | AP5: G | AQ5: G | AR5: A | AS5: G | AT5: G | AU5: G | AV5: G | AW5: G | AX5: G | AY5: Castle Gresley
B6: H23B: Southwest Swadlincote | C6: G | D6: G | E6: G | F6: R | G6: A | H6: G | I6: G | J6: G | K6: R | L6: R | M6: A | N6: A | O6: G | P6: G | Q6: R | R6: R | S6: A | T6: A | U6: G | V6: R | W6: G | X6: R | Y6: A | Z6: A | AA6: G | AB6: R | AC6: R | AD6: G | AE6: G | AF6: R | AG6: R | AH6: R | AI6: G | AJ6: R | AK6: A | AL6: G | AM6: G | AN6: R | AO6: A | AP6: A | AQ6: R | AR6: R | AS6: G | AT6: G | AU6: G | AV6: G | AW6: G | AX6: G | AY6: Castle Gresley
B7: H23C: Swadlincote Lane, Church Gresley | C7: G | D7: G | E7: G | F7: R | G7: G | H7: R | I7: G | J7: G | K7: A | L7: R | M7: R | N7: A | O7: A | P7: G | Q7: G | R7: A | S7: G | T7: G | U7: G | V7: R | W7: G | X7: A | Y7: R | Z7: A | AA7: A | AB7: A | AC7: R | AD7: R | AE7: A | AF7: A | AG7: A | AH7: G | AI7: G | AJ7: R | AK7: A | AL7: G | AM7: G | AN7: G | AO7: G | AP7: R | AQ7: G | AR7: A | AS7: G | AT7: G | AU7: G | AV7: G | AW7: G | AX7: G | AY7: Castle Gresley
B8: H23D: Land south of Walton Road, Drakelow | C8: G | D8: G | E8: G | F8: R | G8: G | H8: G | I8: G | J8: G | K8: R | L8: R | M8: G | N8: R | O8: R | P8: G | Q8: G | R8: A | S8: G | T8: G | U8: G | V8: R | W8: R | X8: R | Y8: G | Z8: R | AA8: R | AB8: A | AC8: R | AD8: G | AE8: R | AF8: A | AG8: R | AH8: G | AI8: G | AJ8: G | AK8: G | AL8: R | AM8: G | AN8: R | AO8: A | AP8: R | AQ8: G | AR8: G | AS8: G | AT8: G | AU8: G | AV8: G | AW8: G | AX8: G | AY8: Drakelow
B9: H23E: Land off Peregrine Avenue and Willington Road, Etwall | C9: G | D9: G | E9: G | F9: R | G9: G | H9: A | I9: G | J9: G | K9: R | L9: R | M9: G | N9: G | O9: R | P9: G | Q9: G | R9: A | S9: G | T9: G | U9: G | V9: R | W9: A | X9: R | Y9: G | Z9: G | AA9: R | AB9: A | AC9: R | AD9: A | AE9: R | AF9: A | AG9: A | AH9: R | AI9: G | AJ9: R | AK9: R | AL9: G | AM9: G | AN9: R | AO9: A | AP9: R | AQ9: A | AR9: R | AS9: G | AT9: G | AU9: G | AV9: G | AW9: G | AX9: G | AY9: Etwall
B10: H23F: Land south of Etwall | C10: G | D10: G | E10: G | F10: A | G10: G | H10: R | I10: G | J10: G | K10: R | L10: R | M10: G | N10: A | O10: R | P10: A | Q10: A | R10: A | S10: G | T10: G | U10: G | V10: R | W10: A | X10: R | Y10: G | Z10: A | AA10: R | AB10: A | AC10: R | AD10: R | AE10: A | AF10: A | AG10: A | AH10: R | AI10: G | AJ10: R | AK10: R | AL10: G | AM10: G | AN10: R | AO10: A | AP10: R | AQ10: A | AR10: R | AS10: G | AT10: G | AU10: G | AV10: G | AW10: G | AX10: G | AY10: Etwall
B11: H23G: Land East of Hatton | C11: G | D11: G | E11: G | F11: A | G11: G | H11: G | I11: G | J11: G | K11: R | L11: G | M11: A | N11: R | O11: R | P11: A | Q11: A | R11: R | S11: A | T11: A | U11: G | V11: G | W11: R | X11: R | Y11: A | Z11: R | AA11: R | AB11: R | AC11: R | AD11: G | AE11: G | AF11: R | AG11: A | AH11: R | AI11: R | AJ11: R | AK11: R | AL11: G | AM11: G | AN11: R | AO11: A | AP11: R | AQ11: R | AR11: R | AS11: G | AT11: G | AU11: G | AV11: G | AW11: G | AX11: G | AY11: Hatton
B12: H23H: Land East of Hilton | C12: G | D12: A | E12: R | F12: A | G12: R | H12: G | I12: G | J12: G | K12: R | L12: G | M12: A | N12: A | O12: A | P12: R | Q12: R | R12: A | S12: G | T12: G | U12: G | V12: R | W12: G | X12: R | Y12: A | Z12: A | AA12: A | AB12: A | AC12: R | AD12: R | AE12: G | AF12: A | AG12: A | AH12: R | AI12: A | AJ12: R | AK12: R | AL12: G | AM12: G | AN12: R | AO12: A | AP12: R | AQ12: R | AR12: R | AS12: G | AT12: G | AU12: G | AV12: G | AW12: G | AX12: G | AY12: Hilton
B13: H23I: Land off Primula Way, Littleover | C13: G | D13: G | E13: G | F13: R | G13: R | H13: A | I13: G | J13: G | K13: R | L13: G | M13: A | N13: A | O13: R | P13: R | Q13: G | R13: R | S13: A | T13: A | U13: G | V13: R | W13: R | X13: R | Y13: A | Z13: A | AA13: R | AB13: R | AC13: R | AD13: R | AE13: A | AF13: R | AG13: A | AH13: G | AI13: G | AJ13: R | AK13: A | AL13: G | AM13: G | AN13: R | AO13: A | AP13: R | AQ13: G | AR13: A | AS13: G | AT13: G | AU13: G | AV13: G | AW13: G | AX13: G | AY13: Stenson
B14: H23J: Jawbone Lane, Melbourne | C14: G | D14: G | E14: G | F14: R | G14: G | H14: A | I14: G | J14: G | K14: R | L14: R | M14: G | N14: R | O14: R | P14: G | Q14: A | R14: A | S14: G | T14: G | U14: G | V14: R | W14: A | X14: R | Y14: G | Z14: R | AA14: R | AB14: A | AC14: R | AD14: G | AE14: G | AF14: A | AG14: R | AH14: G | AI14: A | AJ14: R | AK14: A | AL14: G | AM14: G | AN14: G | AO14: A | AP14: R | AQ14: G | AR14: A | AS14: G | AT14: A | AU14: G | AV14: G | AW14: G | AX14: G | AY14: Melbourne
B15: H23K: Kings Newton Lane, Melbourne | C15: G | D15: G | E15: G | F15: R | G15: G | H15: G | I15: G | J15: G | K15: R | L15: R | M15: G | N15: R | O15: R | P15: G | Q15: G | R15: A | S15: G | T15: G | U15: G | V15: R | W15: R | X15: R | Y15: G | Z15: R | AA15: R | AB15: A | AC15: R | AD15: G | AE15: G | AF15: A | AG15: R | AH15: G | AI15: G | AJ15: R | AK15: G | AL15: R | AM15: G | AN15: G | AO15: A | AP15: R | AQ15: G | AR15: G | AS15: G | AT15: G | AU15: G | AV15: G | AW15: G | AX15: G | AY15: Melbourne
... B106: Site 133_Land off Hall Croft Avenue, Overseal Part A | C106: R | D106: G | E106: R | F106: R | G106: A | H106: A | I106: G | J106: G | K106: R | L106: G | M106: G | N106: R | O106: R | P106: G | Q106: G | R106: A | S106: G | T106: G | U106: G | V106: R | W106: A | X106: R | Y106: G | Z106: R | AA106: R | AB106: A | AC106: R | AD106: G | AE106: G | AF106: A | AG106: A | AH106: G | AI106: G | AJ106: G | AK106: G | AL106: G | AM106: R | AN106: G | AO106: A | AP106: R | AQ106: A | AR106: A | AS106: G | AT106: G | AU106: A | AV106: G | AW106: G | AX106: G | AY106: Overseal

Sheet Pre-Mitigation Sig Summary
B2: M | C2: 12 | D2: 13 | E2: 14 | F2: 15 | G2: 16 | H2: 17 | I2: 18 | J2: 19 | K2: 20 | L2: 21 | M2: 22 | N2: 23 | O2: 24 | P2: 25 | Q2: 26 | R2: 27
V3: Biodiversity | W3: Housing | X3: Accessibility | Y3: IMD | Z3: IMD | AA3: Economy | AB3: Employment | AC3: Infrastructure | AD3: Sust Travel | AE3: Town Centres | AF3: Resources | AG3: Pollution
B4: Site Name | C4: S01 | D4: S02 | E4: S03 | F4: S04 | G4: S05 | H4: S06 | I4: S07 | J4: S08 | K4: S09 | L4: S010 | M4: S011 | N4: S012 | O4: S013 | P4: S014 | Q4: S015 | R4: S016 | U4: Site Name | V4: S01 | W4: S02 | X4: S03 | Y4: S04 | Z4: S05 | AA4: S06 | AB4: S07 | AC4: S08 | AD4: S09 | AE4: S010 | AF4: S011 | AG4: S012 | AH4: S013 | AI4: S014 | AJ4: S015 | AK4: S016 | AL4: Location | AN4: Significant positive | AO4: + +
B5: H23A | C5: {=INDIRECT($B5&"!"&$B$2&$C$2)} -> Minor Negative | D5: {=INDIRECT($B5&"!"&$B$2&$D$2)} -> Minor Positive | E5: {=INDIRECT($B5&"!"&$B$2&$E$2)} -> Neutral | F5: {=INDIRECT($B5&"!"&$B$2&$F$2)} -> Neutral | G5: {=INDIRECT($B5&"!"&$B$2&$G$2)} -> Neutral | H5: {=INDIRECT($B5&"!"&$B$2&$H$2)} -> Minor Positive | I5: {=INDIRECT($B5&"!"&$B$2&$I$2)} -> Neutral | J5: {=INDIRECT($B5&"!"&$B$2&$J$2)} -> Neutral | K5: {=INDIRECT($B5&"!"&$B$2&$K$2)} -> Minor Positive | L5: {=INDIRECT($B5&"!"&$B$2&$L$2)} -> Neutral | M5: {=INDIRECT($B5&"!"&$B$2&$M$2)} -> Significant Negative | N5: {=INDIRECT($B5&"!"&$B$2&$N$2)} -> Minor Negative | O5: {=INDIRECT($B5&"!"&$B$2&$O$2)} -> Minor Positive | P5: {=INDIRECT($B5&"!"&$B$2&$P$2)} -> Neutral | Q5: {=INDIRECT($B5&"!"&$B$2&$Q$2)} -> Minor Negative | R5: {=INDIRECT($B5&"!"&$B$2&$R$2)} -> Minor Negative | T5: Batch 1 | U5: North of Linton Road, Castle Gresley | V5: =INDEX($AO$4:$AO$9,MATCH(C5, $AN$4:$AN$9,0)) -> - | W5: =INDEX($AO$4:$AO$9,MATCH(D5, $AN$4:$AN$9,0)) -> + | X5: =INDEX($AO$4:$AO$9,MATCH(E5, $AN$4:$AN$9,0)) -> 0 | Y5: =INDEX($AO$4:$AO$9,MATCH(F5, $AN$4:$AN$9,0)) -> 0 | Z5: =INDEX($AO$4:$AO$9,MATCH(G5, $AN$4:$AN$9,0)) -> 0 | AA5: =INDEX($AO$4:$AO$9,MATCH(H5, $AN$4:$AN$9,0)) -> + | AB5: =INDEX($AO$4:$AO$9,MATCH(I5, $AN$4:$AN$9,0)) -> 0 | AC5: =INDEX($AO$4:$AO$9,MATCH(J5, $AN$4:$AN$9,0)) -> 0 | ... AK5: =INDEX($AO$4:$AO$9,MATCH(R5, $AN$4:$AN$9,0)) -> - | AL5: Castle Gresley | AN5: Minor Positive | AO5: +
B6: H23B | C6: {=INDIRECT($B6&"!"&$B$2&$C$2)} -> Minor Negative | D6: {=INDIRECT($B6&"!"&$B$2&$D$2)} -> Significant Positive | E6: {=INDIRECT($B6&"!"&$B$2&$E$2)} -> Minor Negative | F6: {=INDIRECT($B6&"!"&$B$2&$F$2)} -> Neutral | G6: {=INDIRECT($B6&"!"&$B$2&$G$2)} -> Neutral | H6: {=INDIRECT($B6&"!"&$B$2&$H$2)} -> Minor Positive | I6: {=INDIRECT($B6&"!"&$B$2&$I$2)} -> Minor Positive | J6: {=INDIRECT($B6&"!"&$B$2&$J$2)} -> Neutral | K6: {=INDIRECT($B6&"!"&$B$2&$K$2)} -> Minor Positive | L6: {=INDIRECT($B6&"!"&$B$2&$L$2)} -> Neutral | M6: {=INDIRECT($B6&"!"&$B$2&$M$2)} -> Significant Negative | N6: {=INDIRECT($B6&"!"&$B$2&$N$2)} -> Minor Negative | O6: {=INDIRECT($B6&"!"&$B$2&$O$2)} -> Significant Positive | P6: {=INDIRECT($B6&"!"&$B$2&$P$2)} -> Minor Negative | Q6: {=INDIRECT($B6&"!"&$B$2&$Q$2)} -> Minor Negative | R6: {=INDIRECT($B6&"!"&$B$2&$R$2)} -> Minor Negative | T6: Batch 2 | U6: Southwest Swadlincote | V6: =INDEX($AO$4:$AO$9,MATCH(C6, $AN$4:$AN$9,0)) -> - | W6: =INDEX($AO$4:$AO$9,MATCH(D6, $AN$4:$AN$9,0)) -> + + | X6: =INDEX($AO$4:$AO$9,MATCH(E6, $AN$4:$AN$9,0)) -> - | Y6: =INDEX($AO$4:$AO$9,MATCH(F6, $AN$4:$AN$9,0)) -> 0 | Z6: =INDEX($AO$4:$AO$9,MATCH(G6, $AN$4:$AN$9,0)) -> 0 | AA6: =INDEX($AO$4:$AO$9,MATCH(H6, $AN$4:$AN$9,0)) -> + | AB6: =INDEX($AO$4:$AO$9,MATCH(I6, $AN$4:$AN$9,0)) -> + | AC6: =INDEX($AO$4:$AO$9,MATCH(J6, $AN$4:$AN$9,0)) -> 0 | ... AK6: =INDEX($AO$4:$AO$9,MATCH(R6, $AN$4:$AN$9,0)) -> - | AL6: Castle Gresley | AN6: Neutral | AO6: 0
B7: H23C | C7: {=INDIRECT($B7&"!"&$B$2&$C$2)} -> Minor Negative | D7: {=INDIRECT($B7&"!"&$B$2&$D$2)} -> Significant Positive | E7: {=INDIRECT($B7&"!"&$B$2&$E$2)} -> Minor Negative | F7: {=INDIRECT($B7&"!"&$B$2&$F$2)} -> Neutral | G7: {=INDIRECT($B7&"!"&$B$2&$G$2)} -> Neutral | H7: {=INDIRECT($B7&"!"&$B$2&$H$2)} -> Minor Positive | I7: {=INDIRECT($B7&"!"&$B$2&$I$2)} -> Neutral | J7: {=INDIRECT($B7&"!"&$B$2&$J$2)} -> Neutral | K7: {=INDIRECT($B7&"!"&$B$2&$K$2)} -> Neutral | L7: {=INDIRECT($B7&"!"&$B$2&$L$2)} -> Neutral | M7: {=INDIRECT($B7&"!"&$B$2&$M$2)} -> Significant Negative | N7: {=INDIRECT($B7&"!"&$B$2&$N$2)} -> Neutral | O7: {=INDIRECT($B7&"!"&$B$2&$O$2)} -> Neutral | P7: {=INDIRECT($B7&"!"&$B$2&$P$2)} -> Neutral | Q7: {=INDIRECT($B7&"!"&$B$2&$Q$2)} -> Neutral | R7: {=INDIRECT($B7&"!"&$B$2&$R$2)} -> Minor Negative | T7: Batch 13 | U7: Swadlincote Lane, Church Gresley | V7: =INDEX($AO$4:$AO$9,MATCH(C7, $AN$4:$AN$9,0)) -> - | W7: =INDEX($AO$4:$AO$9,MATCH(D7, $AN$4:$AN$9,0)) -> + + | X7: =INDEX($AO$4:$AO$9,MATCH(E7, $AN$4:$AN$9,0)) -> - | Y7: =INDEX($AO$4:$AO$9,MATCH(F7, $AN$4:$AN$9,0)) -> 0 | Z7: =INDEX($AO$4:$AO$9,MATCH(G7, $AN$4:$AN$9,0)) -> 0 | AA7: =INDEX($AO$4:$AO$9,MATCH(H7, $AN$4:$AN$9,0)) -> + | AB7: =INDEX($AO$4:$AO$9,MATCH(I7, $AN$4:$AN$9,0)) -> 0 | AC7: =INDEX($AO$4:$AO$9,MATCH(J7, $AN$4:$AN$9,0)) -> 0 | ... AK7: =INDEX($AO$4:$AO$9,MATCH(R7, $AN$4:$AN$9,0)) -> - | AL7: Castle Gresley | AN7: Uncertain | AO7: ?
B8: H23D | C8: {=INDIRECT($B8&"!"&$B$2&$C$2)} -> Minor Negative | D8: {=INDIRECT($B8&"!"&$B$2&$D$2)} -> Significant Positive | E8: {=INDIRECT($B8&"!"&$B$2&$E$2)} -> Minor Negative | F8: {=INDIRECT($B8&"!"&$B$2&$F$2)} -> Neutral | G8: {=INDIRECT($B8&"!"&$B$2&$G$2)} -> Neutral | H8: {=INDIRECT($B8&"!"&$B$2&$H$2)} -> Minor Positive | I8: {=INDIRECT($B8&"!"&$B$2&$I$2)} -> Neutral | J8: {=INDIRECT($B8&"!"&$B$2&$J$2)} -> Neutral | K8: {=INDIRECT($B8&"!"&$B$2&$K$2)} -> Minor Positive | L8: {=INDIRECT($B8&"!"&$B$2&$L$2)} -> Neutral | M8: {=INDIRECT($B8&"!"&$B$2&$M$2)} -> Significant Negative | N8: {=INDIRECT($B8&"!"&$B$2&$N$2)} -> Minor Negative | O8: {=INDIRECT($B8&"!"&$B$2&$O$2)} -> Minor Positive | P8: {=INDIRECT($B8&"!"&$B$2&$P$2)} -> Minor Negative | Q8: {=INDIRECT($B8&"!"&$B$2&$Q$2)} -> Neutral | R8: {=INDIRECT($B8&"!"&$B$2&$R$2)} -> Minor Negative | U8: Land south of Walton Road, Drakelow | V8: =INDEX($AO$4:$AO$9,MATCH(C8, $AN$4:$AN$9,0)) -> - | W8: =INDEX($AO$4:$AO$9,MATCH(D8, $AN$4:$AN$9,0)) -> + + | X8: =INDEX($AO$4:$AO$9,MATCH(E8, $AN$4:$AN$9,0)) -> - | Y8: =INDEX($AO$4:$AO$9,MATCH(F8, $AN$4:$AN$9,0)) -> 0 | Z8: =INDEX($AO$4:$AO$9,MATCH(G8, $AN$4:$AN$9,0)) -> 0 | AA8: =INDEX($AO$4:$AO$9,MATCH(H8, $AN$4:$AN$9,0)) -> + | AB8: =INDEX($AO$4:$AO$9,MATCH(I8, $AN$4:$AN$9,0)) -> 0 | AC8: =INDEX($AO$4:$AO$9,MATCH(J8, $AN$4:$AN$9,0)) -> 0 | ... AK8: =INDEX($AO$4:$AO$9,MATCH(R8, $AN$4:$AN$9,0)) -> - | AL8: Drakelow | AN8: Minor Negative | AO8: -
B9: H23E | C9: {=INDIRECT($B9&"!"&$B$2&$C$2)} -> Minor Negative | D9: {=INDIRECT($B9&"!"&$B$2&$D$2)} -> Minor Positive | E9: {=INDIRECT($B9&"!"&$B$2&$E$2)} -> Neutral | F9: {=INDIRECT($B9&"!"&$B$2&$F$2)} -> Neutral | G9: {=INDIRECT($B9&"!"&$B$2&$G$2)} -> Neutral | H9: {=INDIRECT($B9&"!"&$B$2&$H$2)} -> Minor Positive | I9: {=INDIRECT($B9&"!"&$B$2&$I$2)} -> Neutral | J9: {=INDIRECT($B9&"!"&$B$2&$J$2)} -> Neutral | K9: {=INDIRECT($B9&"!"&$B$2&$K$2)} -> Minor Negative | L9: {=INDIRECT($B9&"!"&$B$2&$L$2)} -> Neutral | M9: {=INDIRECT($B9&"!"&$B$2&$M$2)} -> Significant Negative | N9: {=INDIRECT($B9&"!"&$B$2&$N$2)} -> Minor Negative | O9: {=INDIRECT($B9&"!"&$B$2&$O$2)} -> Neutral | P9: {=INDIRECT($B9&"!"&$B$2&$P$2)} -> Neutral | Q9: {=INDIRECT($B9&"!"&$B$2&$Q$2)} -> Neutral | R9: {=INDIRECT($B9&"!"&$B$2&$R$2)} -> Minor Negative | T9: Batch 1 | U9: Land off Peregrine Avenue and Willington Road, Etwall | V9: =INDEX($AO$4:$AO$9,MATCH(C9, $AN$4:$AN$9,0)) -> - | W9: =INDEX($AO$4:$AO$9,MATCH(D9, $AN$4:$AN$9,0)) -> + | X9: =INDEX($AO$4:$AO$9,MATCH(E9, $AN$4:$AN$9,0)) -> 0 | Y9: =INDEX($AO$4:$AO$9,MATCH(F9, $AN$4:$AN$9,0)) -> 0 | Z9: =INDEX($AO$4:$AO$9,MATCH(G9, $AN$4:$AN$9,0)) -> 0 | AA9: =INDEX($AO$4:$AO$9,MATCH(H9, $AN$4:$AN$9,0)) -> + | AB9: =INDEX($AO$4:$AO$9,MATCH(I9, $AN$4:$AN$9,0)) -> 0 | AC9: =INDEX($AO$4:$AO$9,MATCH(J9, $AN$4:$AN$9,0)) -> 0 | ... AK9: =INDEX($AO$4:$AO$9,MATCH(R9, $AN$4:$AN$9,0)) -> - | AL9: Etwall | AN9: Significant Negative | AO9: --
B10: H23F | C10: {=INDIRECT($B10&"!"&$B$2&$C$2)} -> Minor Negative | D10: {=INDIRECT($B10&"!"&$B$2&$D$2)} -> Significant Positive | E10: {=INDIRECT($B10&"!"&$B$2&$E$2)} -> Neutral | F10: {=INDIRECT($B10&"!"&$B$2&$F$2)} -> Neutral | G10: {=INDIRECT($B10&"!"&$B$2&$G$2)} -> Neutral | H10: {=INDIRECT($B10&"!"&$B$2&$H$2)} -> Minor Positive | I10: {=INDIRECT($B10&"!"&$B$2&$I$2)} -> Neutral | J10: {=INDIRECT($B10&"!"&$B$2&$J$2)} -> Neutral | K10: {=INDIRECT($B10&"!"&$B$2&$K$2)} -> Minor Negative | L10: {=INDIRECT($B10&"!"&$B$2&$L$2)} -> Neutral | M10: {=INDIRECT($B10&"!"&$B$2&$M$2)} -> Significant Negative | N10: {=INDIRECT($B10&"!"&$B$2&$N$2)} -> Minor Negative | O10: {=INDIRECT($B10&"!"&$B$2&$O$2)} -> Neutral | P10: {=INDIRECT($B10&"!"&$B$2&$P$2)} -> Minor Negative | Q10: {=INDIRECT($B10&"!"&$B$2&$Q$2)} -> Neutral | R10: {=INDIRECT($B10&"!"&$B$2&$R$2)} -> Minor Negative | U10: Land south of Etwall | V10: =INDEX($AO$4:$AO$9,MATCH(C10, $AN$4:$AN$9,0)) -> - | W10: =INDEX($AO$4:$AO$9,MATCH(D10, $AN$4:$AN$9,0)) -> + + | X10: =INDEX($AO$4:$AO$9,MATCH(E10, $AN$4:$AN$9,0)) -> 0 | Y10: =INDEX($AO$4:$AO$9,MATCH(F10, $AN$4:$AN$9,0)) -> 0 | Z10: =INDEX($AO$4:$AO$9,MATCH(G10, $AN$4:$AN$9,0)) -> 0 | AA10: =INDEX($AO$4:$AO$9,MATCH(H10, $AN$4:$AN$9,0)) -> + | AB10: =INDEX($AO$4:$AO$9,MATCH(I10, $AN$4:$AN$9,0)) -> 0 | AC10: =INDEX($AO$4:$AO$9,MATCH(J10, $AN$4:$AN$9,0)) -> 0 | ... AK10: =INDEX($AO$4:$AO$9,MATCH(R10, $AN$4:$AN$9,0)) -> - | AL10: Etwall
B11: H23G | C11: {=INDIRECT($B11&"!"&$B$2&$C$2)} -> Minor Negative | D11: {=INDIRECT($B11&"!"&$B$2&$D$2)} -> Minor Positive | E11: {=INDIRECT($B11&"!"&$B$2&$E$2)} -> Minor Negative | F11: {=INDIRECT($B11&"!"&$B$2&$F$2)} -> Neutral | G11: {=INDIRECT($B11&"!"&$B$2&$G$2)} -> Neutral | H11: {=INDIRECT($B11&"!"&$B$2&$H$2)} -> Minor Positive | I11: {=INDIRECT($B11&"!"&$B$2&$I$2)} -> Neutral | J11: {=INDIRECT($B11&"!"&$B$2&$J$2)} -> Neutral | K11: {=INDIRECT($B11&"!"&$B$2&$K$2)} -> Minor Positive | L11: {=INDIRECT($B11&"!"&$B$2&$L$2)} -> Neutral | M11: {=INDIRECT($B11&"!"&$B$2&$M$2)} -> Significant Negative | N11: {=INDIRECT($B11&"!"&$B$2&$N$2)} -> Minor Negative | O11: {=INDIRECT($B11&"!"&$B$2&$O$2)} -> Neutral | P11: {=INDIRECT($B11&"!"&$B$2&$P$2)} -> Minor Negative | Q11: {=INDIRECT($B11&"!"&$B$2&$Q$2)} -> Neutral | R11: {=INDIRECT($B11&"!"&$B$2&$R$2)} -> Minor Negative | U11: Land East of Hatton | V11: =INDEX($AO$4:$AO$9,MATCH(C11, $AN$4:$AN$9,0)) -> - | W11: =INDEX($AO$4:$AO$9,MATCH(D11, $AN$4:$AN$9,0)) -> + | X11: =INDEX($AO$4:$AO$9,MATCH(E11, $AN$4:$AN$9,0)) -> - | Y11: =INDEX($AO$4:$AO$9,MATCH(F11, $AN$4:$AN$9,0)) -> 0 | Z11: =INDEX($AO$4:$AO$9,MATCH(G11, $AN$4:$AN$9,0)) -> 0 | AA11: =INDEX($AO$4:$AO$9,MATCH(H11, $AN$4:$AN$9,0)) -> + | AB11: =INDEX($AO$4:$AO$9,MATCH(I11, $AN$4:$AN$9,0)) -> 0 | AC11: =INDEX($AO$4:$AO$9,MATCH(J11, $AN$4:$AN$9,0)) -> 0 | ... AK11: =INDEX($AO$4:$AO$9,MATCH(R11, $AN$4:$AN$9,0)) -> - | AL11: Hatton
B12: H23H | C12: {=INDIRECT($B12&"!"&$B$2&$C$2)} -> Minor Negative | D12: {=INDIRECT($B12&"!"&$B$2&$D$2)} -> Significant Positive | E12: {=INDIRECT($B12&"!"&$B$2&$E$2)} -> Significant Negative | F12: {=INDIRECT($B12&"!"&$B$2&$F$2)} -> Neutral | G12: {=INDIRECT($B12&"!"&$B$2&$G$2)} -> Neutral | H12: {=INDIRECT($B12&"!"&$B$2&$H$2)} -> Minor Positive | I12: {=INDIRECT($B12&"!"&$B$2&$I$2)} -> Minor Positive | J12: {=INDIRECT($B12&"!"&$B$2&$J$2)} -> Minor Negative | K12: {=INDIRECT($B12&"!"&$B$2&$K$2)} -> Minor Negative | L12: {=INDIRECT($B12&"!"&$B$2&$L$2)} -> Neutral | M12: {=INDIRECT($B12&"!"&$B$2&$M$2)} -> Significant Negative | N12: {=INDIRECT($B12&"!"&$B$2&$N$2)} -> Minor Negative | O12: {=INDIRECT($B12&"!"&$B$2&$O$2)} -> Neutral | P12: {=INDIRECT($B12&"!"&$B$2&$P$2)} -> Minor Negative | Q12: {=INDIRECT($B12&"!"&$B$2&$Q$2)} -> Minor Negative | R12: {=INDIRECT($B12&"!"&$B$2&$R$2)} -> Minor Negative | T12: Batch 2 | U12: Land East of Hilton | V12: =INDEX($AO$4:$AO$9,MATCH(C12, $AN$4:$AN$9,0)) -> - | W12: =INDEX($AO$4:$AO$9,MATCH(D12, $AN$4:$AN$9,0)) -> + + | X12: =INDEX($AO$4:$AO$9,MATCH(E12, $AN$4:$AN$9,0)) -> -- | Y12: =INDEX($AO$4:$AO$9,MATCH(F12, $AN$4:$AN$9,0)) -> 0 | Z12: =INDEX($AO$4:$AO$9,MATCH(G12, $AN$4:$AN$9,0)) -> 0 | AA12: =INDEX($AO$4:$AO$9,MATCH(H12, $AN$4:$AN$9,0)) -> + | AB12: =INDEX($AO$4:$AO$9,MATCH(I12, $AN$4:$AN$9,0)) -> + | AC12: =INDEX($AO$4:$AO$9,MATCH(J12, $AN$4:$AN$9,0)) -> - | ... AK12: =INDEX($AO$4:$AO$9,MATCH(R12, $AN$4:$AN$9,0)) -> - | AL12: Hilton
B13: H23I | C13: {=INDIRECT($B13&"!"&$B$2&$C$2)} -> Minor Negative | D13: {=INDIRECT($B13&"!"&$B$2&$D$2)} -> Significant Positive | E13: {=INDIRECT($B13&"!"&$B$2&$E$2)} -> Minor Negative | F13: {=INDIRECT($B13&"!"&$B$2&$F$2)} -> Neutral | G13: {=INDIRECT($B13&"!"&$B$2&$G$2)} -> Neutral | H13: {=INDIRECT($B13&"!"&$B$2&$H$2)} -> Minor Positive | I13: {=INDIRECT($B13&"!"&$B$2&$I$2)} -> Neutral | J13: {=INDIRECT($B13&"!"&$B$2&$J$2)} -> Minor Negative | K13: {=INDIRECT($B13&"!"&$B$2&$K$2)} -> Minor Positive | L13: {=INDIRECT($B13&"!"&$B$2&$L$2)} -> Neutral | M13: {=INDIRECT($B13&"!"&$B$2&$M$2)} -> Significant Negative | N13: {=INDIRECT($B13&"!"&$B$2&$N$2)} -> Minor Negative | O13: {=INDIRECT($B13&"!"&$B$2&$O$2)} -> Neutral | P13: {=INDIRECT($B13&"!"&$B$2&$P$2)} -> Neutral | Q13: {=INDIRECT($B13&"!"&$B$2&$Q$2)} -> Neutral | R13: {=INDIRECT($B13&"!"&$B$2&$R$2)} -> Minor Negative | T13: Batch 9 | U13: Land South of Primula Way, Littleover | V13: =INDEX($AO$4:$AO$9,MATCH(C13, $AN$4:$AN$9,0)) -> - | W13: =INDEX($AO$4:$AO$9,MATCH(D13, $AN$4:$AN$9,0)) -> + + | X13: =INDEX($AO$4:$AO$9,MATCH(E13, $AN$4:$AN$9,0)) -> - | Y13: =INDEX($AO$4:$AO$9,MATCH(F13, $AN$4:$AN$9,0)) -> 0 | Z13: =INDEX($AO$4:$AO$9,MATCH(G13, $AN$4:$AN$9,0)) -> 0 | AA13: =INDEX($AO$4:$AO$9,MATCH(H13, $AN$4:$AN$9,0)) -> + | AB13: =INDEX($AO$4:$AO$9,MATCH(I13, $AN$4:$AN$9,0)) -> 0 | AC13: =INDEX($AO$4:$AO$9,MATCH(J13, $AN$4:$AN$9,0)) -> - | ... AK13: =INDEX($AO$4:$AO$9,MATCH(R13, $AN$4:$AN$9,0)) -> - | AL13: Stenson
B14: H23J | C14: {=INDIRECT($B14&"!"&$B$2&$C$2)} -> Minor Negative | D14: {=INDIRECT($B14&"!"&$B$2&$D$2)} -> Minor Positive | E14: {=INDIRECT($B14&"!"&$B$2&$E$2)} -> Neutral | F14: {=INDIRECT($B14&"!"&$B$2&$F$2)} -> Neutral | G14: {=INDIRECT($B14&"!"&$B$2&$G$2)} -> Neutral | H14: {=INDIRECT($B14&"!"&$B$2&$H$2)} -> Minor Positive | I14: {=INDIRECT($B14&"!"&$B$2&$I$2)} -> Neutral | J14: {=INDIRECT($B14&"!"&$B$2&$J$2)} -> Neutral | K14: {=INDIRECT($B14&"!"&$B$2&$K$2)} -> Minor Positive | L14: {=INDIRECT($B14&"!"&$B$2&$L$2)} -> Neutral | M14: {=INDIRECT($B14&"!"&$B$2&$M$2)} -> Significant Negative | N14: {=INDIRECT($B14&"!"&$B$2&$N$2)} -> Neutral | O14: {=INDIRECT($B14&"!"&$B$2&$O$2)} -> Neutral | P14: {=INDIRECT($B14&"!"&$B$2&$P$2)} -> Neutral | Q14: {=INDIRECT($B14&"!"&$B$2&$Q$2)} -> Minor Negative | R14: {=INDIRECT($B14&"!"&$B$2&$R$2)} -> Minor Negative | T14: Batch 1 | U14: Jawbone Lane, Melbourne | V14: =INDEX($AO$4:$AO$9,MATCH(C14, $AN$4:$AN$9,0)) -> - | W14: =INDEX($AO$4:$AO$9,MATCH(D14, $AN$4:$AN$9,0)) -> + | X14: =INDEX($AO$4:$AO$9,MATCH(E14, $AN$4:$AN$9,0)) -> 0 | Y14: =INDEX($AO$4:$AO$9,MATCH(F14, $AN$4:$AN$9,0)) -> 0 | Z14: =INDEX($AO$4:$AO$9,MATCH(G14, $AN$4:$AN$9,0)) -> 0 | AA14: =INDEX($AO$4:$AO$9,MATCH(H14, $AN$4:$AN$9,0)) -> + | AB14: =INDEX($AO$4:$AO$9,MATCH(I14, $AN$4:$AN$9,0)) -> 0 | AC14: =INDEX($AO$4:$AO$9,MATCH(J14, $AN$4:$AN$9,0)) -> 0 | ... AK14: =INDEX($AO$4:$AO$9,MATCH(R14, $AN$4:$AN$9,0)) -> - | AL14: Melbourne
B15: H23K | C15: {=INDIRECT($B15&"!"&$B$2&$C$2)} -> Minor Negative | D15: {=INDIRECT($B15&"!"&$B$2&$D$2)} -> Significant Positive | E15: {=INDIRECT($B15&"!"&$B$2&$E$2)} -> Neutral | F15: {=INDIRECT($B15&"!"&$B$2&$F$2)} -> Neutral | G15: {=INDIRECT($B15&"!"&$B$2&$G$2)} -> Neutral | H15: {=INDIRECT($B15&"!"&$B$2&$H$2)} -> Minor Positive | I15: {=INDIRECT($B15&"!"&$B$2&$I$2)} -> Neutral | J15: {=INDIRECT($B15&"!"&$B$2&$J$2)} -> Neutral | K15: {=INDIRECT($B15&"!"&$B$2&$K$2)} -> Minor Negative | L15: {=INDIRECT($B15&"!"&$B$2&$L$2)} -> Neutral | M15: {=INDIRECT($B15&"!"&$B$2&$M$2)} -> Significant Negative | N15: {=INDIRECT($B15&"!"&$B$2&$N$2)} -> Uncertain | O15: {=INDIRECT($B15&"!"&$B$2&$O$2)} -> Minor Positive | P15: {=INDIRECT($B15&"!"&$B$2&$P$2)} -> Neutral | Q15: {=INDIRECT($B15&"!"&$B$2&$Q$2)} -> Neutral | R15: {=INDIRECT($B15&"!"&$B$2&$R$2)} -> Minor Negative | U15: Kings Newton Lane, Melbourne | V15: =INDEX($AO$4:$AO$9,MATCH(C15, $AN$4:$AN$9,0)) -> - | W15: =INDEX($AO$4:$AO$9,MATCH(D15, $AN$4:$AN$9,0)) -> + + | X15: =INDEX($AO$4:$AO$9,MATCH(E15, $AN$4:$AN$9,0)) -> 0 | Y15: =INDEX($AO$4:$AO$9,MATCH(F15, $AN$4:$AN$9,0)) -> 0 | Z15: =INDEX($AO$4:$AO$9,MATCH(G15, $AN$4:$AN$9,0)) -> 0 | AA15: =INDEX($AO$4:$AO$9,MATCH(H15, $AN$4:$AN$9,0)) -> + | AB15: =INDEX($AO$4:$AO$9,MATCH(I15, $AN$4:$AN$9,0)) -> 0 | AC15: =INDEX($AO$4:$AO$9,MATCH(J15, $AN$4:$AN$9,0)) -> 0 | ... AK15: =INDEX($AO$4:$AO$9,MATCH(R15, $AN$4:$AN$9,0)) -> - | AL15: Melbourne
B16: H23L | C16: {=INDIRECT($B16&"!"&$B$2&$C$2)} -> Minor Negative | D16: {=INDIRECT($B16&"!"&$B$2&$D$2)} -> Minor Positive | E16: {=INDIRECT($B16&"!"&$B$2&$E$2)} -> Neutral | F16: {=INDIRECT($B16&"!"&$B$2&$F$2)} -> Neutral | G16: {=INDIRECT($B16&"!"&$B$2&$G$2)} -> Neutral | H16: {=INDIRECT($B16&"!"&$B$2&$H$2)} -> Neutral | I16: {=INDIRECT($B16&"!"&$B$2&$I$2)} -> Neutral | J16: {=INDIRECT($B16&"!"&$B$2&$J$2)} -> Neutral | K16: {=INDIRECT($B16&"!"&$B$2&$K$2)} -> Minor Positive | L16: {=INDIRECT($B16&"!"&$B$2&$L$2)} -> Neutral | M16: {=INDIRECT($B16&"!"&$B$2&$M$2)} -> Minor Negative | N16: {=INDIRECT($B16&"!"&$B$2&$N$2)} -> Neutral | O16: {=INDIRECT($B16&"!"&$B$2&$O$2)} -> Neutral | P16: {=INDIRECT($B16&"!"&$B$2&$P$2)} -> Neutral | Q16: {=INDIRECT($B16&"!"&$B$2&$Q$2)} -> Minor Negative | R16: {=INDIRECT($B16&"!"&$B$2&$R$2)} -> Minor Negative | T16: Batch 10 | U16: Land off Old Etwall Road, Mickleover | V16: =INDEX($AO$4:$AO$9,MATCH(C16, $AN$4:$AN$9,0)) -> - | W16: =INDEX($AO$4:$AO$9,MATCH(D16, $AN$4:$AN$9,0)) -> + | X16: =INDEX($AO$4:$AO$9,MATCH(E16, $AN$4:$AN$9,0)) -> 0 | Y16: =INDEX($AO$4:$AO$9,MATCH(F16, $AN$4:$AN$9,0)) -> 0 | Z16: =INDEX($AO$4:$AO$9,MATCH(G16, $AN$4:$AN$9,0)) -> 0 | AA16: =INDEX($AO$4:$AO$9,MATCH(H16, $AN$4:$AN$9,0)) -> 0 | AB16: =INDEX($AO$4:$AO$9,MATCH(I16, $AN$4:$AN$9,0)) -> 0 | AC16: =INDEX($AO$4:$AO$9,MATCH(J16, $AN$4:$AN$9,0)) -> 0 | ... AK16: =INDEX($AO$4:$AO$9,MATCH(R16, $AN$4:$AN$9,0)) -> - | AL16: Burnaston
B17: H23M | C17: {=INDIRECT($B17&"!"&$B$2&$C$2)} -> Minor Negative | D17: {=INDIRECT($B17&"!"&$B$2&$D$2)} -> Minor Positive | E17: {=INDIRECT($B17&"!"&$B$2&$E$2)} -> Neutral | F17: {=INDIRECT($B17&"!"&$B$2&$F$2)} -> Neutral | G17: {=INDIRECT($B17&"!"&$B$2&$G$2)} -> Neutral | H17: {=INDIRECT($B17&"!"&$B$2&$H$2)} -> Minor Positive | I17: {=INDIRECT($B17&"!"&$B$2&$I$2)} -> Neutral | J17: {=INDIRECT($B17&"!"&$B$2&$J$2)} -> Neutral | K17: {=INDIRECT($B17&"!"&$B$2&$K$2)} -> Minor Negative | L17: {=INDIRECT($B17&"!"&$B$2&$L$2)} -> Neutral | M17: {=INDIRECT($B17&"!"&$B$2&$M$2)} -> Significant Negative | N17: {=INDIRECT($B17&"!"&$B$2&$N$2)} -> Minor Negative | O17: {=INDIRECT($B17&"!"&$B$2&$O$2)} -> Neutral | P17: {=INDIRECT($B17&"!"&$B$2&$P$2)} -> Neutral | Q17: {=INDIRECT($B17&"!"&$B$2&$Q$2)} -> Neutral | R17: {=INDIRECT($B17&"!"&$B$2&$R$2)} -> Significant Negative | T17: Batch 1 | U17: Land off Mount Pleasant Road, Repton | V17: =INDEX($AO$4:$AO$9,MATCH(C17, $AN$4:$AN$9,0)) -> - | W17: =INDEX($AO$4:$AO$9,MATCH(D17, $AN$4:$AN$9,0)) -> + | X17: =INDEX($AO$4:$AO$9,MATCH(E17, $AN$4:$AN$9,0)) -> 0 | Y17: =INDEX($AO$4:$AO$9,MATCH(F17, $AN$4:$AN$9,0)) -> 0 | Z17: =INDEX($AO$4:$AO$9,MATCH(G17, $AN$4:$AN$9,0)) -> 0 | AA17: =INDEX($AO$4:$AO$9,MATCH(H17, $AN$4:$AN$9,0)) -> + | AB17: =INDEX($AO$4:$AO$9,MATCH(I17, $AN$4:$AN$9,0)) -> 0 | AC17: =INDEX($AO$4:$AO$9,MATCH(J17, $AN$4:$AN$9,0)) -> 0 | ... AK17: =INDEX($AO$4:$AO$9,MATCH(R17, $AN$4:$AN$9,0)) -> -- | AL17: Repton
B18: H23N | C18: {=INDIRECT($B18&"!"&$B$2&$C$2)} -> Minor Negative | D18: {=INDIRECT($B18&"!"&$B$2&$D$2)} -> Significant Positive | E18: {=INDIRECT($B18&"!"&$B$2&$E$2)} -> Minor Negative | F18: {=INDIRECT($B18&"!"&$B$2&$F$2)} -> Neutral | G18: {=INDIRECT($B18&"!"&$B$2&$G$2)} -> Neutral | H18: {=INDIRECT($B18&"!"&$B$2&$H$2)} -> Neutral | I18: {=INDIRECT($B18&"!"&$B$2&$I$2)} -> Neutral | J18: {=INDIRECT($B18&"!"&$B$2&$J$2)} -> Minor Negative | K18: {=INDIRECT($B18&"!"&$B$2&$K$2)} -> Minor Positive | L18: {=INDIRECT($B18&"!"&$B$2&$L$2)} -> Neutral | M18: {=INDIRECT($B18&"!"&$B$2&$M$2)} -> Minor Negative | N18: {=INDIRECT($B18&"!"&$B$2&$N$2)} -> Neutral | O18: {=INDIRECT($B18&"!"&$B$2&$O$2)} -> Neutral | P18: {=INDIRECT($B18&"!"&$B$2&$P$2)} -> Neutral | Q18: {=INDIRECT($B18&"!"&$B$2&$Q$2)} -> Neutral | R18: {=INDIRECT($B18&"!"&$B$2&$R$2)} -> Minor Negative | T18: Batch 14 | U18: William Nadin Way, Swadlincote, Site D | V18: =INDEX($AO$4:$AO$9,MATCH(C18, $AN$4:$AN$9,0)) -> - | W18: =INDEX($AO$4:$AO$9,MATCH(D18, $AN$4:$AN$9,0)) -> + + | X18: =INDEX($AO$4:$AO$9,MATCH(E18, $AN$4:$AN$9,0)) -> - | Y18: =INDEX($AO$4:$AO$9,MATCH(F18, $AN$4:$AN$9,0)) -> 0 | Z18: =INDEX($AO$4:$AO$9,MATCH(G18, $AN$4:$AN$9,0)) -> 0 | AA18: =INDEX($AO$4:$AO$9,MATCH(H18, $AN$4:$AN$9,0)) -> 0 | AB18: =INDEX($AO$4:$AO$9,MATCH(I18, $AN$4:$AN$9,0)) -> 0 | AC18: =INDEX($AO$4:$AO$9,MATCH(J18, $AN$4:$AN$9,0)) -> - | ... AK18: =INDEX($AO$4:$AO$9,MATCH(R18, $AN$4:$AN$9,0)) -> - | AL18: Newhall
B19: H23O | C19: {=INDIRECT($B19&"!"&$B$2&$C$2)} -> Minor Negative | D19: {=INDIRECT($B19&"!"&$B$2&$D$2)} -> Significant Positive | E19: {=INDIRECT($B19&"!"&$B$2&$E$2)} -> Minor Negative | F19: {=INDIRECT($B19&"!"&$B$2&$F$2)} -> Neutral | G19: {=INDIRECT($B19&"!"&$B$2&$G$2)} -> Neutral | H19: {=INDIRECT($B19&"!"&$B$2&$H$2)} -> Minor Positive | I19: {=INDIRECT($B19&"!"&$B$2&$I$2)} -> Neutral | J19: {=INDIRECT($B19&"!"&$B$2&$J$2)} -> Neutral | K19: {=INDIRECT($B19&"!"&$B$2&$K$2)} -> Minor Positive | L19: {=INDIRECT($B19&"!"&$B$2&$L$2)} -> Neutral | M19: {=INDIRECT($B19&"!"&$B$2&$M$2)} -> Significant Negative | N19: {=INDIRECT($B19&"!"&$B$2&$N$2)} -> Minor Negative | O19: {=INDIRECT($B19&"!"&$B$2&$O$2)} -> Minor Positive | P19: {=INDIRECT($B19&"!"&$B$2&$P$2)} -> Neutral | Q19: {=INDIRECT($B19&"!"&$B$2&$Q$2)} -> Minor Negative | R19: {=INDIRECT($B19&"!"&$B$2&$R$2)} -> Significant Negative | U19: Land north of Willington | V19: =INDEX($AO$4:$AO$9,MATCH(C19, $AN$4:$AN$9,0)) -> - | W19: =INDEX($AO$4:$AO$9,MATCH(D19, $AN$4:$AN$9,0)) -> + + | X19: =INDEX($AO$4:$AO$9,MATCH(E19, $AN$4:$AN$9,0)) -> - | Y19: =INDEX($AO$4:$AO$9,MATCH(F19, $AN$4:$AN$9,0)) -> 0 | Z19: =INDEX($AO$4:$AO$9,MATCH(G19, $AN$4:$AN$9,0)) -> 0 | AA19: =INDEX($AO$4:$AO$9,MATCH(H19, $AN$4:$AN$9,0)) -> + | AB19: =INDEX($AO$4:$AO$9,MATCH(I19, $AN$4:$AN$9,0)) -> 0 | AC19: =INDEX($AO$4:$AO$9,MATCH(J19, $AN$4:$AN$9,0)) -> 0 | ... AK19: =INDEX($AO$4:$AO$9,MATCH(R19, $AN$4:$AN$9,0)) -> -- | AL19: Willington
B20: H23P | C20: {=INDIRECT($B20&"!"&$B$2&$C$2)} -> Minor Negative | D20: {=INDIRECT($B20&"!"&$B$2&$D$2)} -> Minor Positive | E20: {=INDIRECT($B20&"!"&$B$2&$E$2)} -> Neutral | F20: {=INDIRECT($B20&"!"&$B$2&$F$2)} -> Neutral | G20: {=INDIRECT($B20&"!"&$B$2&$G$2)} -> Neutral | H20: {=INDIRECT($B20&"!"&$B$2&$H$2)} -> Minor Positive | I20: {=INDIRECT($B20&"!"&$B$2&$I$2)} -> Neutral | J20: {=INDIRECT($B20&"!"&$B$2&$J$2)} -> Neutral | K20: {=INDIRECT($B20&"!"&$B$2&$K$2)} -> Minor Positive | L20: {=INDIRECT($B20&"!"&$B$2&$L$2)} -> Neutral | M20: {=INDIRECT($B20&"!"&$B$2&$M$2)} -> Significant Negative | N20: {=INDIRECT($B20&"!"&$B$2&$N$2)} -> Minor Negative | O20: {=INDIRECT($B20&"!"&$B$2&$O$2)} -> Neutral | P20: {=INDIRECT($B20&"!"&$B$2&$P$2)} -> Neutral | Q20: {=INDIRECT($B20&"!"&$B$2&$Q$2)} -> Minor Negative | R20: {=INDIRECT($B20&"!"&$B$2&$R$2)} -> Minor Negative | T20: Batch 2 | U20: Land off Kingfisher Way, Willington | V20: =INDEX($AO$4:$AO$9,MATCH(C20, $AN$4:$AN$9,0)) -> - | W20: =INDEX($AO$4:$AO$9,MATCH(D20, $AN$4:$AN$9,0)) -> + | X20: =INDEX($AO$4:$AO$9,MATCH(E20, $AN$4:$AN$9,0)) -> 0 | Y20: =INDEX($AO$4:$AO$9,MATCH(F20, $AN$4:$AN$9,0)) -> 0 | Z20: =INDEX($AO$4:$AO$9,MATCH(G20, $AN$4:$AN$9,0)) -> 0 | AA20: =INDEX($AO$4:$AO$9,MATCH(H20, $AN$4:$AN$9,0)) -> + | AB20: =INDEX($AO$4:$AO$9,MATCH(I20, $AN$4:$AN$9,0)) -> 0 | AC20: =INDEX($AO$4:$AO$9,MATCH(J20, $AN$4:$AN$9,0)) -> 0 | ... AK20: =INDEX($AO$4:$AO$9,MATCH(R20, $AN$4:$AN$9,0)) -> - | AL20: Willington
B21: Site_3 | C21: {=INDIRECT($B21&"!"&$B$2&$C$2)} -> Minor Negative | D21: {=INDIRECT($B21&"!"&$B$2&$D$2)} -> Significant Positive | E21: {=INDIRECT($B21&"!"&$B$2&$E$2)} -> Neutral | F21: {=INDIRECT($B21&"!"&$B$2&$F$2)} -> Neutral | G21: {=INDIRECT($B21&"!"&$B$2&$G$2)} -> Neutral | H21: {=INDIRECT($B21&"!"&$B$2&$H$2)} -> Minor Positive | I21: {=INDIRECT($B21&"!"&$B$2&$I$2)} -> Neutral | J21: {=INDIRECT($B21&"!"&$B$2&$J$2)} -> Neutral | K21: {=INDIRECT($B21&"!"&$B$2&$K$2)} -> Minor Negative | L21: {=INDIRECT($B21&"!"&$B$2&$L$2)} -> Neutral | M21: {=INDIRECT($B21&"!"&$B$2&$M$2)} -> Significant Negative | N21: {=INDIRECT($B21&"!"&$B$2&$N$2)} -> Minor Negative | O21: {=INDIRECT($B21&"!"&$B$2&$O$2)} -> Neutral | P21: {=INDIRECT($B21&"!"&$B$2&$P$2)} -> Minor Negative | Q21: {=INDIRECT($B21&"!"&$B$2&$Q$2)} -> Neutral | R21: {=INDIRECT($B21&"!"&$B$2&$R$2)} -> Minor Negative | T21: Batch 1 | U21: Site 3_Egginton Road, Etwall | V21: =INDEX($AO$4:$AO$9,MATCH(C21, $AN$4:$AN$9,0)) -> - | W21: =INDEX($AO$4:$AO$9,MATCH(D21, $AN$4:$AN$9,0)) -> + + | X21: =INDEX($AO$4:$AO$9,MATCH(E21, $AN$4:$AN$9,0)) -> 0 | Y21: =INDEX($AO$4:$AO$9,MATCH(F21, $AN$4:$AN$9,0)) -> 0 | Z21: =INDEX($AO$4:$AO$9,MATCH(G21, $AN$4:$AN$9,0)) -> 0 | AA21: =INDEX($AO$4:$AO$9,MATCH(H21, $AN$4:$AN$9,0)) -> + | AB21: =INDEX($AO$4:$AO$9,MATCH(I21, $AN$4:$AN$9,0)) -> 0 | AC21: =INDEX($AO$4:$AO$9,MATCH(J21, $AN$4:$AN$9,0)) -> 0 | ... AK21: =INDEX($AO$4:$AO$9,MATCH(R21, $AN$4:$AN$9,0)) -> - | AL21: Etwall
B22: Site_5 | C22: {=INDIRECT($B22&"!"&$B$2&$C$2)} -> Significant Negative | D22: {=INDIRECT($B22&"!"&$B$2&$D$2)} -> Minor Positive | E22: {=INDIRECT($B22&"!"&$B$2&$E$2)} -> Neutral | F22: {=INDIRECT($B22&"!"&$B$2&$F$2)} -> Neutral | G22: {=INDIRECT($B22&"!"&$B$2&$G$2)} -> Neutral | H22: {=INDIRECT($B22&"!"&$B$2&$H$2)} -> Minor Positive | I22: {=INDIRECT($B22&"!"&$B$2&$I$2)} -> Neutral | J22: {=INDIRECT($B22&"!"&$B$2&$J$2)} -> Neutral | K22: {=INDIRECT($B22&"!"&$B$2&$K$2)} -> Minor Positive | L22: {=INDIRECT($B22&"!"&$B$2&$L$2)} -> Neutral | M22: {=INDIRECT($B22&"!"&$B$2&$M$2)} -> Significant Negative | N22: {=INDIRECT($B22&"!"&$B$2&$N$2)} -> Significant Negative | O22: {=INDIRECT($B22&"!"&$B$2&$O$2)} -> Neutral | P22: {=INDIRECT($B22&"!"&$B$2&$P$2)} -> Neutral | Q22: {=INDIRECT($B22&"!"&$B$2&$Q$2)} -> Minor Negative | R22: {=INDIRECT($B22&"!"&$B$2&$R$2)} -> Minor Negative | T22: Batch 1 | U22: Site 5_Valley Road, Overseal | V22: =INDEX($AO$4:$AO$9,MATCH(C22, $AN$4:$AN$9,0)) -> -- | W22: =INDEX($AO$4:$AO$9,MATCH(D22, $AN$4:$AN$9,0)) -> + | X22: =INDEX($AO$4:$AO$9,MATCH(E22, $AN$4:$AN$9,0)) -> 0 | Y22: =INDEX($AO$4:$AO$9,MATCH(F22, $AN$4:$AN$9,0)) -> 0 | Z22: =INDEX($AO$4:$AO$9,MATCH(G22, $AN$4:$AN$9,0)) -> 0 | AA22: =INDEX($AO$4:$AO$9,MATCH(H22, $AN$4:$AN$9,0)) -> + | AB22: =INDEX($AO$4:$AO$9,MATCH(I22, $AN$4:$AN$9,0)) -> 0 | AC22: =INDEX($AO$4:$AO$9,MATCH(J22, $AN$4:$AN$9,0)) -> 0 | ... AK22: =INDEX($AO$4:$AO$9,MATCH(R22, $AN$4:$AN$9,0)) -> - | AL22: Overseal
B23: Site_7 | C23: {=INDIRECT($B23&"!"&$B$2&$C$2)} -> Minor Negative | D23: {=INDIRECT($B23&"!"&$B$2&$D$2)} -> Minor Positive | E23: {=INDIRECT($B23&"!"&$B$2&$E$2)} -> Neutral | F23: {=INDIRECT($B23&"!"&$B$2&$F$2)} -> Neutral | G23: {=INDIRECT($B23&"!"&$B$2&$G$2)} -> Neutral | H23: {=INDIRECT($B23&"!"&$B$2&$H$2)} -> Minor Positive | I23: {=INDIRECT($B23&"!"&$B$2&$I$2)} -> Minor Negative | J23: {=INDIRECT($B23&"!"&$B$2&$J$2)} -> Neutral | K23: {=INDIRECT($B23&"!"&$B$2&$K$2)} -> Minor Negative | L23: {=INDIRECT($B23&"!"&$B$2&$L$2)} -> Neutral | M23: {=INDIRECT($B23&"!"&$B$2&$M$2)} -> Significant Negative | N23: {=INDIRECT($B23&"!"&$B$2&$N$2)} -> Minor Negative | O23: {=INDIRECT($B23&"!"&$B$2&$O$2)} -> Neutral | P23: {=INDIRECT($B23&"!"&$B$2&$P$2)} -> Neutral | Q23: {=INDIRECT($B23&"!"&$B$2&$Q$2)} -> Neutral | R23: {=INDIRECT($B23&"!"&$B$2&$R$2)} -> Minor Negative | T23: Batch 1 | U23: Site 7_Moor Lane, Aston | V23: =INDEX($AO$4:$AO$9,MATCH(C23, $AN$4:$AN$9,0)) -> - | W23: =INDEX($AO$4:$AO$9,MATCH(D23, $AN$4:$AN$9,0)) -> + | X23: =INDEX($AO$4:$AO$9,MATCH(E23, $AN$4:$AN$9,0)) -> 0 | Y23: =INDEX($AO$4:$AO$9,MATCH(F23, $AN$4:$AN$9,0)) -> 0 | Z23: =INDEX($AO$4:$AO$9,MATCH(G23, $AN$4:$AN$9,0)) -> 0 | AA23: =INDEX($AO$4:$AO$9,MATCH(H23, $AN$4:$AN$9,0)) -> + | AB23: =INDEX($AO$4:$AO$9,MATCH(I23, $AN$4:$AN$9,0)) -> - | AC23: =INDEX($AO$4:$AO$9,MATCH(J23, $AN$4:$AN$9,0)) -> 0 | ... AK23: =INDEX($AO$4:$AO$9,MATCH(R23, $AN$4:$AN$9,0)) -> - | AL23: Aston on Trent
B24: Site_8 | C24: {=INDIRECT($B24&"!"&$B$2&$C$2)} -> Minor Negative | D24: {=INDIRECT($B24&"!"&$B$2&$D$2)} -> Significant Positive | E24: {=INDIRECT($B24&"!"&$B$2&$E$2)} -> Neutral | F24: {=INDIRECT($B24&"!"&$B$2&$F$2)} -> Neutral | G24: {=INDIRECT($B24&"!"&$B$2&$G$2)} -> Neutral | H24: {=INDIRECT($B24&"!"&$B$2&$H$2)} -> Minor Positive | I24: {=INDIRECT($B24&"!"&$B$2&$I$2)} -> Minor Positive | J24: {=INDIRECT($B24&"!"&$B$2&$J$2)} -> Neutral | K24: {=INDIRECT($B24&"!"&$B$2&$K$2)} -> Minor Negative | L24: {=INDIRECT($B24&"!"&$B$2&$L$2)} -> Neutral | M24: {=INDIRECT($B24&"!"&$B$2&$M$2)} -> Significant Negative | N24: {=INDIRECT($B24&"!"&$B$2&$N$2)} -> Minor Negative | O24: {=INDIRECT($B24&"!"&$B$2&$O$2)} -> Minor Negative | P24: {=INDIRECT($B24&"!"&$B$2&$P$2)} -> Minor Negative | Q24: {=INDIRECT($B24&"!"&$B$2&$Q$2)} -> Minor Negative | R24: {=INDIRECT($B24&"!"&$B$2&$R$2)} -> Significant Negative | U24: Site 8_Willington Power Station | V24: =INDEX($AO$4:$AO$9,MATCH(C24, $AN$4:$AN$9,0)) -> - | W24: =INDEX($AO$4:$AO$9,MATCH(D24, $AN$4:$AN$9,0)) -> + + | X24: =INDEX($AO$4:$AO$9,MATCH(E24, $AN$4:$AN$9,0)) -> 0 | Y24: =INDEX($AO$4:$AO$9,MATCH(F24, $AN$4:$AN$9,0)) -> 0 | Z24: =INDEX($AO$4:$AO$9,MATCH(G24, $AN$4:$AN$9,0)) -> 0 | AA24: =INDEX($AO$4:$AO$9,MATCH(H24, $AN$4:$AN$9,0)) -> + | AB24: =INDEX($AO$4:$AO$9,MATCH(I24, $AN$4:$AN$9,0)) -> + | AC24: =INDEX($AO$4:$AO$9,MATCH(J24, $AN$4:$AN$9,0)) -> 0 | ... AK24: =INDEX($AO$4:$AO$9,MATCH(R24, $AN$4:$AN$9,0)) -> -- | AL24: Willington
B25: Site_9 | C25: {=INDIRECT($B25&"!"&$B$2&$C$2)} -> Minor Negative | D25: {=INDIRECT($B25&"!"&$B$2&$D$2)} -> Significant Positive | E25: {=INDIRECT($B25&"!"&$B$2&$E$2)} -> Minor Negative | F25: {=INDIRECT($B25&"!"&$B$2&$F$2)} -> Neutral | G25: {=INDIRECT($B25&"!"&$B$2&$G$2)} -> Neutral | H25: {=INDIRECT($B25&"!"&$B$2&$H$2)} -> Minor Positive | I25: {=INDIRECT($B25&"!"&$B$2&$I$2)} -> Minor Positive | J25: {=INDIRECT($B25&"!"&$B$2&$J$2)} -> Minor Negative | K25: {=INDIRECT($B25&"!"&$B$2&$K$2)} -> Minor Positive | L25: {=INDIRECT($B25&"!"&$B$2&$L$2)} -> Neutral | M25: {=INDIRECT($B25&"!"&$B$2&$M$2)} -> Significant Negative | N25: {=INDIRECT($B25&"!"&$B$2&$N$2)} -> Minor Negative | O25: {=INDIRECT($B25&"!"&$B$2&$O$2)} -> Neutral | P25: {=INDIRECT($B25&"!"&$B$2&$P$2)} -> Minor Negative | Q25: {=INDIRECT($B25&"!"&$B$2&$Q$2)} -> Minor Negative | R25: {=INDIRECT($B25&"!"&$B$2&$R$2)} -> Significant Negative | T25: Batch 2 | U25: Site 9_Land south of Ashby Road East, Burton upon Trent | V25: =INDEX($AO$4:$AO$9,MATCH(C25, $AN$4:$AN$9,0)) -> - | W25: =INDEX($AO$4:$AO$9,MATCH(D25, $AN$4:$AN$9,0)) -> + + | X25: =INDEX($AO$4:$AO$9,MATCH(E25, $AN$4:$AN$9,0)) -> - | Y25: =INDEX($AO$4:$AO$9,MATCH(F25, $AN$4:$AN$9,0)) -> 0 | Z25: =INDEX($AO$4:$AO$9,MATCH(G25, $AN$4:$AN$9,0)) -> 0 | AA25: =INDEX($AO$4:$AO$9,MATCH(H25, $AN$4:$AN$9,0)) -> + | AB25: =INDEX($AO$4:$AO$9,MATCH(I25, $AN$4:$AN$9,0)) -> + | AC25: =INDEX($AO$4:$AO$9,MATCH(J25, $AN$4:$AN$9,0)) -> - | ... AK25: =INDEX($AO$4:$AO$9,MATCH(R25, $AN$4:$AN$9,0)) -> -- | AL25: Bretby
B26: Site_10 | C26: {=INDIRECT($B26&"!"&$B$2&$C$2)} -> Minor Negative | D26: {=INDIRECT($B26&"!"&$B$2&$D$2)} -> Significant Positive | E26: {=INDIRECT($B26&"!"&$B$2&$E$2)} -> Minor Negative | F26: {=INDIRECT($B26&"!"&$B$2&$F$2)} -> Neutral | G26: {=INDIRECT($B26&"!"&$B$2&$G$2)} -> Neutral | H26: {=INDIRECT($B26&"!"&$B$2&$H$2)} -> Minor Positive | I26: {=INDIRECT($B26&"!"&$B$2&$I$2)} -> Minor Positive | J26: {=INDIRECT($B26&"!"&$B$2&$J$2)} -> Minor Negative | K26: {=INDIRECT($B26&"!"&$B$2&$K$2)} -> Minor Positive | L26: {=INDIRECT($B26&"!"&$B$2&$L$2)} -> Neutral | M26: {=INDIRECT($B26&"!"&$B$2&$M$2)} -> Minor Positive | N26: {=INDIRECT($B26&"!"&$B$2&$N$2)} -> Minor Negative | O26: {=INDIRECT($B26&"!"&$B$2&$O$2)} -> Neutral | P26: {=INDIRECT($B26&"!"&$B$2&$P$2)} -> Minor Negative | Q26: {=INDIRECT($B26&"!"&$B$2&$Q$2)} -> Minor Negative | R26: {=INDIRECT($B26&"!"&$B$2&$R$2)} -> Significant Negative | T26: Batch 2 | U26: Site 10_Park Road , Swadlincote | V26: =INDEX($AO$4:$AO$9,MATCH(C26, $AN$4:$AN$9,0)) -> - | W26: =INDEX($AO$4:$AO$9,MATCH(D26, $AN$4:$AN$9,0)) -> + + | X26: =INDEX($AO$4:$AO$9,MATCH(E26, $AN$4:$AN$9,0)) -> - | Y26: =INDEX($AO$4:$AO$9,MATCH(F26, $AN$4:$AN$9,0)) -> 0 | Z26: =INDEX($AO$4:$AO$9,MATCH(G26, $AN$4:$AN$9,0)) -> 0 | AA26: =INDEX($AO$4:$AO$9,MATCH(H26, $AN$4:$AN$9,0)) -> + | AB26: =INDEX($AO$4:$AO$9,MATCH(I26, $AN$4:$AN$9,0)) -> + | AC26: =INDEX($AO$4:$AO$9,MATCH(J26, $AN$4:$AN$9,0)) -> - | ... AK26: =INDEX($AO$4:$AO$9,MATCH(R26, $AN$4:$AN$9,0)) -> -- | AL26: Newhall
B27: Site_11 | C27: {=INDIRECT($B27&"!"&$B$2&$C$2)} -> Minor Negative | D27: {=INDIRECT($B27&"!"&$B$2&$D$2)} -> Significant Positive | E27: {=INDIRECT($B27&"!"&$B$2&$E$2)} -> Minor Negative | F27: {=INDIRECT($B27&"!"&$B$2&$F$2)} -> Neutral | G27: {=INDIRECT($B27&"!"&$B$2&$G$2)} -> Neutral | H27: {=INDIRECT($B27&"!"&$B$2&$H$2)} -> Minor Positive | I27: {=INDIRECT($B27&"!"&$B$2&$I$2)} -> Minor Positive | J27: {=INDIRECT($B27&"!"&$B$2&$J$2)} -> Neutral | K27: {=INDIRECT($B27&"!"&$B$2&$K$2)} -> Minor Positive | L27: {=INDIRECT($B27&"!"&$B$2&$L$2)} -> Neutral | M27: {=INDIRECT($B27&"!"&$B$2&$M$2)} -> Minor Positive | N27: {=INDIRECT($B27&"!"&$B$2&$N$2)} -> Minor Negative | O27: {=INDIRECT($B27&"!"&$B$2&$O$2)} -> Minor Positive | P27: {=INDIRECT($B27&"!"&$B$2&$P$2)} -> Neutral | Q27: {=INDIRECT($B27&"!"&$B$2&$Q$2)} -> Minor Negative | R27: {=INDIRECT($B27&"!"&$B$2&$R$2)} -> Significant Negative | T27: Batch 2 | U27: Site 11_Land at Butt Lane and Vale Road, Woodville | V27: =INDEX($AO$4:$AO$9,MATCH(C27, $AN$4:$AN$9,0)) -> - | W27: =INDEX($AO$4:$AO$9,MATCH(D27, $AN$4:$AN$9,0)) -> + + | X27: =INDEX($AO$4:$AO$9,MATCH(E27, $AN$4:$AN$9,0)) -> - | Y27: =INDEX($AO$4:$AO$9,MATCH(F27, $AN$4:$AN$9,0)) -> 0 | Z27: =INDEX($AO$4:$AO$9,MATCH(G27, $AN$4:$AN$9,0)) -> 0 | AA27: =INDEX($AO$4:$AO$9,MATCH(H27, $AN$4:$AN$9,0)) -> + | AB27: =INDEX($AO$4:$AO$9,MATCH(I27, $AN$4:$AN$9,0)) -> + | AC27: =INDEX($AO$4:$AO$9,MATCH(J27, $AN$4:$AN$9,0)) -> 0 | ... AK27: =INDEX($AO$4:$AO$9,MATCH(R27, $AN$4:$AN$9,0)) -> -- | AL27: Woodville
B28: Site_14 | C28: {=INDIRECT($B28&"!"&$B$2&$C$2)} -> Minor Negative | D28: {=INDIRECT($B28&"!"&$B$2&$D$2)} -> Significant Positive | E28: {=INDIRECT($B28&"!"&$B$2&$E$2)} -> Neutral | F28: {=INDIRECT($B28&"!"&$B$2&$F$2)} -> Neutral | G28: {=INDIRECT($B28&"!"&$B$2&$G$2)} -> Neutral | H28: {=INDIRECT($B28&"!"&$B$2&$H$2)} -> Minor Positive | I28: {=INDIRECT($B28&"!"&$B$2&$I$2)} -> Minor Positive | J28: {=INDIRECT($B28&"!"&$B$2&$J$2)} -> Neutral | K28: {=INDIRECT($B28&"!"&$B$2&$K$2)} -> Minor Positive | L28: {=INDIRECT($B28&"!"&$B$2&$L$2)} -> Neutral | M28: {=INDIRECT($B28&"!"&$B$2&$M$2)} -> Significant Negative | N28: {=INDIRECT($B28&"!"&$B$2&$N$2)} -> Minor Negative | O28: {=INDIRECT($B28&"!"&$B$2&$O$2)} -> Neutral | P28: {=INDIRECT($B28&"!"&$B$2&$P$2)} -> Minor Negative | Q28: {=INDIRECT($B28&"!"&$B$2&$Q$2)} -> Neutral | R28: {=INDIRECT($B28&"!"&$B$2&$R$2)} -> Significant Negative | T28: Batch 2 | U28: Site 14_Sandcliffe Road, Swadlincote | V28: =INDEX($AO$4:$AO$9,MATCH(C28, $AN$4:$AN$9,0)) -> - | W28: =INDEX($AO$4:$AO$9,MATCH(D28, $AN$4:$AN$9,0)) -> + + | X28: =INDEX($AO$4:$AO$9,MATCH(E28, $AN$4:$AN$9,0)) -> 0 | Y28: =INDEX($AO$4:$AO$9,MATCH(F28, $AN$4:$AN$9,0)) -> 0 | Z28: =INDEX($AO$4:$AO$9,MATCH(G28, $AN$4:$AN$9,0)) -> 0 | AA28: =INDEX($AO$4:$AO$9,MATCH(H28, $AN$4:$AN$9,0)) -> + | AB28: =INDEX($AO$4:$AO$9,MATCH(I28, $AN$4:$AN$9,0)) -> + | AC28: =INDEX($AO$4:$AO$9,MATCH(J28, $AN$4:$AN$9,0)) -> 0 | ... AK28: =INDEX($AO$4:$AO$9,MATCH(R28, $AN$4:$AN$9,0)) -> -- | AL28: Swadlincote
